BEGIN:VCALENDAR
VERSION:2.0
PRODID:-//Ziemia Lubaczowska - weź drugi oddech... - ECPv6.15.20//NONSGML v1.0//EN
CALSCALE:GREGORIAN
METHOD:PUBLISH
X-ORIGINAL-URL:https://ziemialubaczowska.com
X-WR-CALDESC:Wydarzenia dla Ziemia Lubaczowska - weź drugi oddech...
REFRESH-INTERVAL;VALUE=DURATION:PT1H
X-Robots-Tag:noindex
X-PUBLISHED-TTL:PT1H
BEGIN:VTIMEZONE
TZID:Europe/Warsaw
BEGIN:DAYLIGHT
TZOFFSETFROM:+0100
TZOFFSETTO:+0200
TZNAME:CEST
DTSTART:20250330T010000
END:DAYLIGHT
BEGIN:STANDARD
TZOFFSETFROM:+0200
TZOFFSETTO:+0100
TZNAME:CET
DTSTART:20251026T010000
END:STANDARD
BEGIN:DAYLIGHT
TZOFFSETFROM:+0100
TZOFFSETTO:+0200
TZNAME:CEST
DTSTART:20260329T010000
END:DAYLIGHT
BEGIN:STANDARD
TZOFFSETFROM:+0200
TZOFFSETTO:+0100
TZNAME:CET
DTSTART:20261025T010000
END:STANDARD
BEGIN:DAYLIGHT
TZOFFSETFROM:+0100
TZOFFSETTO:+0200
TZNAME:CEST
DTSTART:20270328T010000
END:DAYLIGHT
BEGIN:STANDARD
TZOFFSETFROM:+0200
TZOFFSETTO:+0100
TZNAME:CET
DTSTART:20271031T010000
END:STANDARD
END:VTIMEZONE
BEGIN:VEVENT
DTSTART;VALUE=DATE:20260626
DTEND;VALUE=DATE:20260629
DTSTAMP:20260425T003311
CREATED:20260423T160234Z
LAST-MODIFIED:20260423T160234Z
UID:2243-1782432000-1782691199@ziemialubaczowska.com
SUMMARY:IV Roztoczański Festiwal Biegowy
DESCRIPTION:Czwarta edycja festiwalu odbędzie się w dniach 26–28 czerwca 2026 roku. Bazą wydarzenia\, podobnie jak w latach ubiegłych\, będzie Kresowa Osada w Baszni Dolnej. To właśnie tam zlokalizowany zostanie start i meta wszystkich dystansów\, a także biuro zawodów i strefa regeneracji dla zawodników. Trasy biegów zostaną poprowadzone głównie przez tereny gminy Lubaczów\, oferując uczestnikom kontakt z naturą i charakterystycznymi krajobrazami regionu.
URL:https://ziemialubaczowska.com/kalendarz/iv-roztoczanski-festiwal-biegowy/
LOCATION:Kresowa Osada\, Kolejowa\, Basznia Dolna
END:VEVENT
END:VCALENDAR