BEGIN:VCALENDAR
VERSION:2.0
PRODID:-//Ziemia Lubaczowska - weź drugi oddech... - ECPv6.15.20//NONSGML v1.0//EN
CALSCALE:GREGORIAN
METHOD:PUBLISH
X-ORIGINAL-URL:https://ziemialubaczowska.com
X-WR-CALDESC:Wydarzenia dla Ziemia Lubaczowska - weź drugi oddech...
REFRESH-INTERVAL;VALUE=DURATION:PT1H
X-Robots-Tag:noindex
X-PUBLISHED-TTL:PT1H
BEGIN:VTIMEZONE
TZID:Europe/Warsaw
BEGIN:DAYLIGHT
TZOFFSETFROM:+0100
TZOFFSETTO:+0200
TZNAME:CEST
DTSTART:20250330T010000
END:DAYLIGHT
BEGIN:STANDARD
TZOFFSETFROM:+0200
TZOFFSETTO:+0100
TZNAME:CET
DTSTART:20251026T010000
END:STANDARD
BEGIN:DAYLIGHT
TZOFFSETFROM:+0100
TZOFFSETTO:+0200
TZNAME:CEST
DTSTART:20260329T010000
END:DAYLIGHT
BEGIN:STANDARD
TZOFFSETFROM:+0200
TZOFFSETTO:+0100
TZNAME:CET
DTSTART:20261025T010000
END:STANDARD
BEGIN:DAYLIGHT
TZOFFSETFROM:+0100
TZOFFSETTO:+0200
TZNAME:CEST
DTSTART:20270328T010000
END:DAYLIGHT
BEGIN:STANDARD
TZOFFSETFROM:+0200
TZOFFSETTO:+0100
TZNAME:CET
DTSTART:20271031T010000
END:STANDARD
END:VTIMEZONE
BEGIN:VEVENT
DTSTART;VALUE=DATE:20260524
DTEND;VALUE=DATE:20260525
DTSTAMP:20260424T205911
CREATED:20260423T155640Z
LAST-MODIFIED:20260423T155640Z
UID:2240-1779580800-1779667199@ziemialubaczowska.com
SUMMARY:Zlot samochodów zabytkowych
DESCRIPTION:W Oleszycach ponownie usłyszymy dźwięk klasycznych silników i pojawi się niepowtarzalny klimat dawnych lat. Już 24 maja odbędzie się II Oleszycki Zlot Pojazdów Zabytkowych.
URL:https://ziemialubaczowska.com/kalendarz/zlot-samochodow-zabytkowych/
LOCATION:Rynek w Oleszycach\, Rynek\, Oleszyce
END:VEVENT
END:VCALENDAR